BEGIN:VCALENDAR
VERSION:2.0
PRODID:-//Gemeinde Ried im Zillertal - ECPv6.15.14//NONSGML v1.0//EN
CALSCALE:GREGORIAN
METHOD:PUBLISH
X-WR-CALNAME:Gemeinde Ried im Zillertal
X-ORIGINAL-URL:https://gemeinde-ried.at
X-WR-CALDESC:Veranstaltungen für Gemeinde Ried im Zillertal
REFRESH-INTERVAL;VALUE=DURATION:PT1H
X-Robots-Tag:noindex
X-PUBLISHED-TTL:PT1H
BEGIN:VTIMEZONE
TZID:Europe/Berlin
BEGIN:DAYLIGHT
TZOFFSETFROM:+0100
TZOFFSETTO:+0200
TZNAME:CEST
DTSTART:20250330T010000
END:DAYLIGHT
BEGIN:STANDARD
TZOFFSETFROM:+0200
TZOFFSETTO:+0100
TZNAME:CET
DTSTART:20251026T010000
END:STANDARD
BEGIN:DAYLIGHT
TZOFFSETFROM:+0100
TZOFFSETTO:+0200
TZNAME:CEST
DTSTART:20260329T010000
END:DAYLIGHT
BEGIN:STANDARD
TZOFFSETFROM:+0200
TZOFFSETTO:+0100
TZNAME:CET
DTSTART:20261025T010000
END:STANDARD
BEGIN:DAYLIGHT
TZOFFSETFROM:+0100
TZOFFSETTO:+0200
TZNAME:CEST
DTSTART:20270328T010000
END:DAYLIGHT
BEGIN:STANDARD
TZOFFSETFROM:+0200
TZOFFSETTO:+0100
TZNAME:CET
DTSTART:20271031T010000
END:STANDARD
END:VTIMEZONE
BEGIN:VEVENT
DTSTART;TZID=Europe/Berlin:20261009T000000
DTEND;TZID=Europe/Berlin:20261009T000000
DTSTAMP:20260421T142757
CREATED:20251203T115440Z
LAST-MODIFIED:20251203T115440Z
UID:3177-1791504000-1791504000@gemeinde-ried.at
SUMMARY:Müllabfuhr 09.10.
DESCRIPTION:
URL:https://gemeinde-ried.at/termin/muellabfuhr-09-10/
CATEGORIES:Müllabfuhr
END:VEVENT
BEGIN:VEVENT
DTSTART;TZID=Europe/Berlin:20261023T000000
DTEND;TZID=Europe/Berlin:20261023T000000
DTSTAMP:20260421T142757
CREATED:20251203T115440Z
LAST-MODIFIED:20251203T115440Z
UID:3178-1792713600-1792713600@gemeinde-ried.at
SUMMARY:Müllabfuhr 23.10.
DESCRIPTION:
URL:https://gemeinde-ried.at/termin/muellabfuhr-23-10/
CATEGORIES:Müllabfuhr
END:VEVENT
BEGIN:VEVENT
DTSTART;TZID=Europe/Berlin:20261106T000000
DTEND;TZID=Europe/Berlin:20261106T000000
DTSTAMP:20260421T142757
CREATED:20251203T115440Z
LAST-MODIFIED:20251203T115440Z
UID:3179-1793923200-1793923200@gemeinde-ried.at
SUMMARY:Müllabfuhr 06.11.
DESCRIPTION:
URL:https://gemeinde-ried.at/termin/muellabfuhr-06-11/
CATEGORIES:Müllabfuhr
END:VEVENT
BEGIN:VEVENT
DTSTART;TZID=Europe/Berlin:20261120T000000
DTEND;TZID=Europe/Berlin:20261120T000000
DTSTAMP:20260421T142757
CREATED:20251203T115441Z
LAST-MODIFIED:20251203T115441Z
UID:3180-1795132800-1795132800@gemeinde-ried.at
SUMMARY:Müllabfuhr 20.11.
DESCRIPTION:
URL:https://gemeinde-ried.at/termin/muellabfuhr-20-11/
CATEGORIES:Müllabfuhr
END:VEVENT
BEGIN:VEVENT
DTSTART;TZID=Europe/Berlin:20261204T000000
DTEND;TZID=Europe/Berlin:20261204T000000
DTSTAMP:20260421T142757
CREATED:20251203T115455Z
LAST-MODIFIED:20251203T115455Z
UID:3181-1796342400-1796342400@gemeinde-ried.at
SUMMARY:Müllabfuhr 04.12.
DESCRIPTION:
URL:https://gemeinde-ried.at/termin/muellabfuhr-04-12/
CATEGORIES:Müllabfuhr
END:VEVENT
BEGIN:VEVENT
DTSTART;TZID=Europe/Berlin:20261218T000000
DTEND;TZID=Europe/Berlin:20261218T000000
DTSTAMP:20260421T142757
CREATED:20251203T115455Z
LAST-MODIFIED:20260128T114243Z
UID:3182-1797552000-1797552000@gemeinde-ried.at
SUMMARY:Müllabfuhr 18.12.
DESCRIPTION:Restmüll Sammeltermine 2026
URL:https://gemeinde-ried.at/termin/muellabfuhr-18-12/
CATEGORIES:Müllabfuhr
END:VEVENT
BEGIN:VEVENT
DTSTART;TZID=Europe/Berlin:20261231T000000
DTEND;TZID=Europe/Berlin:20261231T000000
DTSTAMP:20260421T142757
CREATED:20251203T115455Z
LAST-MODIFIED:20260128T114044Z
UID:3183-1798675200-1798675200@gemeinde-ried.at
SUMMARY:Müllabfuhr 31.12.
DESCRIPTION:Restmüll Sammeltermine 2026
URL:https://gemeinde-ried.at/termin/muellabfuhr-31-12/
CATEGORIES:Müllabfuhr
END:VEVENT
END:VCALENDAR